BEGIN:VCALENDAR
VERSION:2.0
PRODID:http://www.pr-daun.de
BEGIN:VEVENT
UID:a3a12a42-1e93-11f1-8342-0242ac11002b-1781109000000-de
DTSTAMP:20260313T041807Z
DTSTART:20260610T163000Z
DTEND:20260610T171500Z
SUMMARY;LANGUAGE=de:Hl. Messe Jahresamt f. ++ Ehel. August u. Therese Hens, geb. Münch u. leb. u. ++ d. Fam. Hens u. Münch
END:VEVENT
END:VCALENDAR
