BEGIN:VCALENDAR
VERSION:2.0
PRODID:http://www.pr-daun.de
BEGIN:VEVENT
UID:a46b7f2e-1e93-11f1-8342-0242ac11002b-1781370000000-de
DTSTAMP:20260313T041809Z
DTSTART:20260613T170000Z
DTEND:20260613T180000Z
SUMMARY;LANGUAGE=de:Vorabendmesse f. + Maria Stolz u. ++ Angeh. f. ++ Ehel. Edith u. Josef Sartoris u. ++ Ehel. Hedwig u. Robert Otten u. ++ d. Fam. Sartoris-Otten
END:VEVENT
END:VCALENDAR
